BEGIN:VCALENDAR
METHOD:PUBLISH
VERSION:2.0
PRODID:-//Eventilla iCal Syndication//NONSGML Liana//EN
BEGIN:VEVENT
UID:1ZNyo@eventilla.com
DTSTAMP:20260624T150000Z
DTSTART:20260624T150000Z
DTEND:20260624T170000Z
SUMMARY:Satakunnan Osakesäästäjät ja Suomen Osakesäästäjät: SuomiAreena viikon sijoittajailta 2026
DESCRIPTION:SuomiAreena valtaa Porin – tule mukaan tapahtumaamme ke 24.6.!\nViime vuosien tapaan Satakunnan Osakesäästäjät ja Suomen Osakesäästäjät järjestävät yhteistyössä tapahtuman SuomiAreenan yhteydessä. Sijoittajailta tarjoaa ajankohtaista asiaa sijoittamisesta ja erinomaisen mahdollisuuden verkostoitumiseen.\nPuhujiksi saamme Suomen Osakesäästäjien toimitusjohtaja Karri Salmen\, Nordnetin talousasiantuntija Jasmin Hamidin sekä Lähitapiola Länsi-Suomen asiakkuusjohtaja Johanna Narnion. \nIllan tarkempi ohjelma päivittyy myöhemmin.\nTarjolla kaksi kaatoa viiniä/alkoholitonta juomaa sekä buffet-ruokailu. Jäsenten omavastuu tarjoilusta on 25 euroa. Osallistujien mahdollisia poissaoloja ei hyvitetä.\nPaikka: SAMK Kampuksen ravintola Silvia\, Pori\n \nMenu \nRaikasta helmimozzarella ja kirsikkatomaattisalaattia mansikkabalsamicosiirapilla ja tuoreilla kesän mansikoilla\nBroileripastasalaattia kauden kasviksilla ja mango-raja\nSerranokinkkua\, talon pestoa ja rosmariini-focacciaa\nCocktailpiirakoita vegaanisella herne-minttupyreellä sekä kermaisella lohimoussella\nBriejuustoa sekä kauden hedelmiä kruunattuna päärynä-balsamicosiirapilla\nTäyteläistä Vadelma-suklaamoussea\nArvo 30\,00 € / henkilö (sis. alv. 13\,5 %)\n \nLisätietoja tarvittaessa osoitteesta: satakunta@suomenos.fi\nTervetuloa!
LOCATION:Satakunnan ammattikorkeakoulu, SAMK-kampus Pori\, Satakunnankatu
 23\, 28101\, Pori
URL:http://tapahtumat.osakeliitto.fi/event/1ZNyo
END:VEVENT
END:VCALENDAR
