BEGIN:VCALENDAR
METHOD:PUBLISH
VERSION:2.0
PRODID:-//Eventilla iCal Syndication//NONSGML Liana//EN
BEGIN:VEVENT
UID:552dw@eventilla.com
DTSTAMP:20220921T083000Z
DTSTART:20220921T083000Z
DTEND:20220921T093000Z
SUMMARY:Osakesäästäjän ilmainen lounas - Cargotec
DESCRIPTION:Osakesäästäjän ilmainen lounas on kaikille jäsenille avoin webinaarisarja\, jossa tutustutaan Suomen vaihdetuimpiin pörssiyhtiöihin. \n \nEsittelyssä Cargotec\nYritys on lyhyesti esitelty omalla välilehdellä.\n \nWebinaarissa Cargotecin sijoittajasuhdejohtaja Aki Vesikallio kertoo mitä yritys tekee\, ajankohtaisia kuulumisia yhtiöstä ja miltä tulevaisuus näyttää. Jäsenten kysymyksiä esittämässä Osakesäästäjien toimitusjohtaja Victor Snellman tai Osakesäästäjien puheenjohtaja Karri Salmi. \n \n\nWebinaarisarjan tallenteet tulevat nähtäväksi jäsensivuille. Webinaarien tallenteet ovat nähtävissä jäsensivuilta muutaman päivän viiveellä. \nWebinaarisarjan alustana on Teams Live Event. Webinaarin katsominen onnistuu joko Teams-työpöytäsovelluksella tai yleisimmillä verkkoselaimilla. Saat webinaarilinkin sähköpostitse ilmoittautumalla tapahtumaan. Lähetämme webinaarilinkin ilmoittautuneille uudestaan tapahtumaa edeltävänä päivänä.\nIlmoittautumista varten tarvitset jäsennumerosi. Jäsennumeron saat tietoosi: \n\nViimeisimmän laskun asiakasnumero-kentästä \nSähköpostitse saapuneesta rekisteröintiviestistä\, jonka sait liityttyäsi jäseneksi\nViisas Raha-lehden takakannesta osoitetietojen yhteydestä\nTiedustelemalla toimistolta toimisto@osakeliitto.fi \n\nMikäli et ole vielä jäsen\, mutta haluat osallistua ilmaisille lounaille liity jäseneksialk. 15 euroa. 
LOCATION:webinaari
URL:http://tapahtumat.osakeliitto.fi/ilmainenlounas_cargotec
END:VEVENT
END:VCALENDAR
