BEGIN:VCALENDAR
METHOD:PUBLISH
VERSION:2.0
PRODID:-//Eventilla iCal Syndication//NONSGML Liana//EN
BEGIN:VEVENT
UID:EGAZv@eventilla.com
DTSTAMP:20260122T153000Z
DTSTART:20260122T153000Z
DTEND:20260122T173000Z
SUMMARY:Päijät-Häme: Ilta laatuyhtiöiden ja -viinin parissa
DESCRIPTION:Ilta laatuyhtiöiden ja -viinin parissa Ravintola Lanun Korkissa!\nYhtiöesittelyt:\nMerus Power\, toimitusjohtaja Kari Tuomala\nNexstim\, toimitusjohtaja Mikko Karvinen\nTarjoilu: juustolautanen\, oliiveja\, marinoituja tomaatteja\, tapenada ja Korkin leipää. Lisäksi 1 kaato viiniä / alkoholiton juoma.\nSitovat ilmoittautumiset su 18.1. mennessä. Ilmoittautumisen yhteydessä maksetaan omavastuuosuus 5 eur\, jota ei palauteta.
LOCATION:Ravintola Lanun Korkki\, Rautatienkatu 26 E\, 15110\, Lahti\,
 Suomi
URL:http://tapahtumat.osakeliitto.fi/event/EGAZv
END:VEVENT
END:VCALENDAR
