BEGIN:VCALENDAR
METHOD:PUBLISH
VERSION:2.0
PRODID:-//Eventilla iCal Syndication//NONSGML Liana//EN
BEGIN:VEVENT
UID:LPWXd@eventilla.com
DTSTAMP:20260319T143000Z
DTSTART:20260319T143000Z
DTEND:20260319T170000Z
SUMMARY:Pohjois-Savon Osakesäästäjät: Vuosikokous
DESCRIPTION:Tervetuloa yritysesittelyyn ja yhdistyksen sääntömääräiseen kevätkokoukseen\nHotelli Puijonsarveen 19.3  alkaen kello 16.30\n \nTilaisuuden alussa Elisan yritysesittelyn pitää sijoittajasuhdejohtaja Vesa Sahivirta.\nKevätkokous sisältää sääntömääräiset asiat ( tilinpäätöskokous ) ja alkaa noin kello 18.00\n \nTilaisuudessa kahvitarjoilu\, tervetuloa paikalle\n \nPuheenjohtaja ja hallitus
LOCATION:Hotelli Puijonsarvi\, Kuopio
URL:http://tapahtumat.osakeliitto.fi/event/LPWXd
END:VEVENT
END:VCALENDAR
