BEGIN:VCALENDAR
METHOD:PUBLISH
VERSION:2.0
PRODID:-//Eventilla iCal Syndication//NONSGML Liana//EN
BEGIN:VEVENT
UID:QVa1y@eventilla.com
DTSTAMP:20260317T160000Z
DTSTART:20260317T160000Z
DTEND:20260317T183000Z
SUMMARY:Etelä-Savon Osakesäästäjät: Sääntömääräinen kevätkokous ja sijoituskerho
LOCATION:Hotelli Marja\, Jääkärinkatu 8\, 50100\, Mikkeli
URL:http://tapahtumat.osakeliitto.fi/event/QVa1y
END:VEVENT
END:VCALENDAR
