BEGIN:VCALENDAR
METHOD:PUBLISH
VERSION:2.0
PRODID:-//Eventilla iCal Syndication//NONSGML Liana//EN
BEGIN:VEVENT
UID:Y7BGE@eventilla.com
DTSTAMP:20240215T090000Z
DTSTART:20240215T090000Z
DTEND:20240215T100000Z
SUMMARY:Osakesäästäjän Ilmainen Lounas - Konecranes
DESCRIPTION:Osakesäästäjän ilmainen lounas on kaikille jäsenille avoin webinaarisarja\, jossa tutustutaan Suomen vaihdetuimpiin pörssiyhtiöihin. \n\nKonecranes rakentaa materiaalinkäsittelyn seuraavaa sukupolvea tavoitteenaan turvallisempi\, älykkäämpi ja parempi maailma\nKonecranes on materiaalinkäsittelyalan ratkaisujen globaaleja johtavia yhtiöitä ja palvelee laajaa asiakasjoukkoa eri toimialoilla. Asetamme jatkuvasti alamme parhaat käytännöt\, päivittäisistä parannuksista läpimurtoihin kaikkein merkittävimpinä hetkinä\, koska tiedämme löytävämme aina turvallisemman\, tuottavamman ja vastuullisemman tavan toimia. Konecranes on 16 500 työntekijänsä voimin yli 50 maassa joka päivä mukana nostamassa\, käsittelemässä ja siirtämässä asioita\, joita maailma tarvitsee. Vuonna 2022 konsernin liikevaihto oli 3\,4 miljardia euroa. Konecranesin osake on listattuna Nasdaq Helsingissä (tunnus: KCR).\n \nWebinaarisarjan tallenteet tulevat nähtäväksi jäsensivuille. Webinaarien tallenteet ovat nähtävissä jäsensivuilta muutaman päivän viiveellä. \nWebinaarisarjan alustana on Teams Live Event. Webinaarin katsominen onnistuu joko Teams-työpöytäsovelluksella tai yleisimmillä verkkoselaimilla. Saat webinaarilinkin sähköpostitse ilmoittautumalla tapahtumaan. Lähetämme webinaarilinkin ilmoittautuneille uudestaan tapahtumaa edeltävänä päivänä.\nIlmoittautumista varten tarvitset jäsennumerosi. Jäsennumeron saat tietoosi: \n\nViimeisimmän laskun asiakasnumero-kentästä \nSähköpostitse saapuneesta rekisteröintiviestistä\, jonka sait liityttyäsi jäseneksi\nViisas Raha-lehden takakannesta osoitetietojen yhteydestä\nTiedustelemalla toimistolta toimisto@osakeliitto.fi \n\nMikäli et ole vielä jäsen\, mutta haluat osallistua ilmaisille lounaille liity jäseneksialk. 15 euroa. \n 
LOCATION:Webinaari
URL:http://tapahtumat.osakeliitto.fi/event/Y7BGE
END:VEVENT
END:VCALENDAR
