BEGIN:VCALENDAR
METHOD:PUBLISH
VERSION:2.0
PRODID:-//Eventilla iCal Syndication//NONSGML Liana//EN
BEGIN:VEVENT
UID:ZPvyG@eventilla.com
DTSTAMP:20241107T160000Z
DTSTART:20241107T160000Z
DTEND:20241107T215900Z
SUMMARY:Keski-Pohjanmaan Osakesäästäjät: Syyskokous
LOCATION:Laivurintalo
URL:http://tapahtumat.osakeliitto.fi/event/ZPvyG
END:VEVENT
END:VCALENDAR
