BEGIN:VCALENDAR
METHOD:PUBLISH
VERSION:2.0
PRODID:-//Eventilla iCal Syndication//NONSGML Liana//EN
BEGIN:VEVENT
UID:ao4za@eventilla.com
DTSTAMP:20260319T150000Z
DTSTART:20260319T150000Z
DTEND:20260319T160000Z
SUMMARY:Kouvolan Osakesäästäjät: Nordean tarjoamana: Tekoälyn seuraava aalto – mahdollisuudet sijoittajalle webinaari to 19.3.26 klo.17.00-18.00
DESCRIPTION:Kouvolan osakesäästäjät ry. on kutsuttu osallistumaan Nordean järjestämään webinaariin "Tekoälyn seuraava aalto – mahdollisuudet sijoittajalle" torstaina 19.3.2026. Paikkana Nordean konttori osoitteessa Torikatu 3-5.\nKouvolan Osakesäästäjien tapahtumat kalenterissa: https://www.suomenos.fi/tapahtumat/kaupunki/kouvola/\nWebinaarin ohjelma ja aikataulu:\nJuontaja – Verneri Pulkkinen\, Inderesin yhteisönrakentajaVerneri johdattaa tilaisuuden aiheeseen ja esittelee tekoälyn kehityksen nykytilaa.\nKeynote – Antti Merilehto\, tekoälyn tulkki\, ELEVAntti tarkastelee konkreettisin esimerkein\, minne tekoäly on matkalla ja mitä tämä muutos tarkoittaa yrityksille\, sijoittajille ja työelämälle? Tapahtuuko suurin muutos laitteistoissa vai ohjelmistoissa\, itsenäisissä agenteissa vai Copilot-ratkaisuissa? \nSijoittajan näkökulma – Antti Saari\, Nordean päästrategiAntti pureutuu tekoälyyn sijoituskohteena ja esittelee Nordean uuden tekoälyyn keskittyvän rahaston sijoitusstrategian sekä markkinanäkymät. Miksi rahasto on ajankohtainen? Millaisiin yrityksiin se sijoittaa? Miten se asemoituu tekoälyn seuraavaan aaltoon? \nQ&A – Kysy asiantuntijoiltaTilaisuuden lopussa on varattu aikaa kysymyksille. Voit esittää asiantuntijoille juuri sinulle tärkeitä kysymyksiä ennen webinaaria tai sen aikana.  \n***\nIlmoittautuminen alkaa 5.3. kello 10 ja loppuu 9.3.2026 kello 16 tai paikkojen täytyttyä. Paikkoja on varattu 50 kpl.\nTapahtuma on osallistujille maksuton.\n 
LOCATION:Kouvola, Nordea\, Torikatu 3-5\, 45100\, Kouvola\, Suomi
URL:http://tapahtumat.osakeliitto.fi/event/ao4za
END:VEVENT
END:VCALENDAR
