BEGIN:VCALENDAR
METHOD:PUBLISH
VERSION:2.0
PRODID:-//Eventilla iCal Syndication//NONSGML Liana//EN
BEGIN:VEVENT
UID:aqMD6@eventilla.com
DTSTAMP:20220914T133000Z
DTSTART:20220914T133000Z
DTEND:20220914T144500Z
SUMMARY:Voiko ETF:illä saada markkinoita parempaa tuottoa?
DESCRIPTION:Osakesäästäjät järjestää "Voiko ETF:illä saada markkinoita parempaa tuottoa?" -webinaarin yhdessä yhteistyökumppanimme Sijoittaja.fi kanssa.\n\nTapahtuma on avoin kaikille Osakesäästäjien jäsenille ja webinaarin tallenne tulee myöhemmin nähtäväksi jäsensivuille. \nVoit esittää kysymyksiä ennakkoon ilmoittautumisen yhteydessä tai webinaarin aikana. \nSaat webinaarin linkin sähköpostiisi ilmoittautuessasi sekä 24h ennen webinaarin alkua. \nWebinaarin alustana on Teams Live Event. Webinaarin katsominen onnistuu joko Teams-työpöytäsovelluksella tai yleisimmillä verkkoselaimilla.\nIlmoittautumista varten tarvitset jäsennumerosi. Jäsennumeron saat tietoosi: \n\nViimeisimmän laskun asiakasnumero-kentästä \nSähköpostitse saapuneesta rekisteröintiviestistä\, jonka sait liityttyäsi jäseneksi\nViisas Raha-lehden takakannesta osoitetietojen yhteydestä\nTiedustelemalla toimistolta toimisto@osakeliitto.fi \n\nMikäli et ole vielä jäsen\, mutta haluat osallistua webinaariin liity jäseneksi alk. 15 euroa. 
LOCATION:webinaari
URL:http://tapahtumat.osakeliitto.fi/voiko_etfilla_saada_markkinoilta_parempaa_tuottoa
END:VEVENT
END:VCALENDAR
