BEGIN:VCALENDAR
METHOD:PUBLISH
VERSION:2.0
PRODID:-//Eventilla iCal Syndication//NONSGML Liana//EN
BEGIN:VEVENT
UID:goQl4@eventilla.com
DTSTAMP:20260319T153000Z
DTSTART:20260319T153000Z
DTEND:20260319T190000Z
SUMMARY:VSOS:n ja Nordean yhteinen naisten sijoitus- ja elokuvailta 19.3.2026
DESCRIPTION:Tervetuloa VSOS:n ja Nordean yhteiseen naisten sijoitus- ja elokuvailtaan 💰🍿📽️ 19.3.2026 Kino Piispanristiin.\nOta ystävä mukaan 🩷\n \nklo 17.30 tilaisuuden lyhyt avaus\, VSOS ja Nordea\nklo 17.35-17.45 Varsinais-Suomen osakesäästäjät: Miksi liittyä jäseneksi \nklo 17.45-18.15 Nordean sijoitusstrategisti Hertta Alava\nklo 18.15-18.45 Ieva Salmela\nIeva Salmela toimii Hesburgerin viestinnän ja kansainvälisen markkinoinnin johtajana\, ja hänet on palkittu vuoden 2025 ihmisläheisimpänä johtajana HumanPower25-kilpailussa.Illan aikana Ieva jakaa oman tarinansa\, miten hänen polkunsa on kulkenut. Luvassa on ajatuksia johtamisesta\, ihmisistä ja siitä\, mitä vastuullinen kasvu käytännössä tarkoittaa.\nklo 18.45-19.00 tauko\n \nklo 19.00-20.45 Kaunis Rietas Onnellinen\, Kaija Koon elämästä kertova elokuva\n \nTilaisuus on maksuton
LOCATION:Kino Piispanristi\, Jännekatu 2, Piispanristi\, Turku
URL:http://tapahtumat.osakeliitto.fi/event/goQl4
END:VEVENT
END:VCALENDAR
