BEGIN:VCALENDAR
METHOD:PUBLISH
VERSION:2.0
PRODID:-//Eventilla iCal Syndication//NONSGML Liana//EN
BEGIN:VEVENT
UID:j1a6o@eventilla.com
DTSTAMP:20201105T150000Z
DTSTART:20201105T150000Z
DTEND:20201105T163000Z
SUMMARY:Pörssisäätiön Pörssi-ilta-webinaari
DESCRIPTION:Pörssisäätiön Pörssi-ilta webinaarina.Lisätiedot ja ilmoittautuminen: https://www.lyyti.fi/reg/Porssiilta_Tampere_27112019_3556
LOCATION:Verkossa
URL:http://tapahtumat.osakeliitto.fi/event/j1a6o
END:VEVENT
END:VCALENDAR
