BEGIN:VCALENDAR
METHOD:PUBLISH
VERSION:2.0
PRODID:-//Eventilla iCal Syndication//NONSGML Liana//EN
BEGIN:VEVENT
UID:jJKpg@eventilla.com
DTSTAMP:20210510T210000Z
DTSTART:20210510T210000Z
DTEND:20210519T205900Z
SUMMARY:Osakesijoittamisen peruskurssi (jäsenille)
DESCRIPTION:Osakesijoittamisen peruskurssilla opit juuri ne tärkeimmät perusasiat\, joiden kaikkein osakesijoittajien tulisi hallita. Käydään läpi keskeisimmät peruskäsitteet osakekannasta osakeantiin. Tulet oppimaan miten käytännössä käyt osakkeilla kauppaa ja miten varmistat\, että toimeksiannot menevät läpi. Mutta pörsseissä tapahtuu paljon muutakin mielenkiitoista! Siitä enemmän kurssilla!\nOpit tuntemaan mitä keskeisimmät avaintunnusluvut tarkoittavat ja mistä nämä löytyvät. Tämän lisäksi opit myös riskienhallinnan keskeisimmät työvälineet. Kirsikkana kakun päälle Sinulle annetaan myös kullanarvoiset vinkit salkun objektiiviseen seurantaan; -Tämä pieni asia joka tuottaa jopa kokeneille osakesijoittajille ongelmia toisinaan...\nTämä kurssi on erittäin käytännönläheinen ja avaa osakesijoittamisen maailman varsin havainnollisella tavalla.\nKohderyhmäTämä kurssi sopii ihan kaikille. Eduksi toki on\, jos osallistuja tuntee jo ennestään sijoittamisen keskeisimmät termit. Esim. sijoittamisen peruskurssi on mainio täydennys tälle kurssille.\nTämän kurssin osallistumismaksu voi verotuksessa lisätä pääomatulojen hankkimiskuluihin.Koulutuksen sisältö\n\nosakesijoittamisen käsitteet\nmiten toimitaan osakeanneissa\nosingot ja arvonnousu\nkaupankäynti\, tarjoustasot\ntoimeksiannon tekeminen\, eri toimeksiantotyyppejä\ntoimeksiantojen toteutuminen\, marssijärjestys\nkurkistus algoritmeihin\, lyhyeksi myyntiin yms. kauppaan vaikuttaviin seikkoihin\nmitä tulos- ja taselaskelmat kertovat pääpiirteittäin\nkeskeisiä tunnuslukuja P/E\, P/B\, osinkotuotto\, oman pääoman tuotto\, velkaantumisaste\, omavaraisuusaste\nosakkeiden ominaisriski ja markkinariskihajautus ja salkun rakentaminen\nmiten salkkua tulisi seurata\nosakesäästötili ja tämän rooli osakesijoittamisessamistä tietoa\n\nOhjelma on jaettu neljään luentoon\, josta jokaisen pituus on noin 1h 30min. Luentojen tallenteet ovat osallistujien katsottavissa jälkikäteen rajatun ajan.\nLuennot 11.5. 17:00-18:30Luento 1: Millaista on sijoittaa suoriin osakkeisiin\, ja mitä tulee tietää osakkeista?12.5. 17:00-18:30Luento 2: Miten pörsseissä käydään kauppaa\, ja mitä tapahtuu pörsseissä?18.5. 17:00-18:30Luento 3: Miten yhtiöitä hinnoitellaan? Tunnuslukuanalyysi19.5. 17:00-18:30Luento 4: Miten hallitaan osakesalkkua ja salkun riskejä? Mistä tietoa?\nKurssin hinta\n\nOsakesäästäjien jäsenet 19€ (ilmoittautuminen 1.5. jälkeen 29€)\nEi jäsenet 49€ (liittymällä jäseneksi olet oikeutettu halvempaan hintaan)\n\nIlmoittautuminen alkaa 29.3.2021\nHuom. Kurssi tulee maksaa ilmoittautumisen yhteydessä\, joten ota pankkitunnukset tai maksukortin tiedot valmiiksi esille. Maksutavat: suomalaiset verkkopankit ja yleleisimmät maksukortit.\nKouluttajaKouluttajana toimii Mikko Haapaniemi. Lue ViisasRaha.fi sivulta Mikon haastattelu.\nKoulutus järjestetään TEAMS live event webinaarina. TEAMS ohjeet. Luentojen tallenteet tulevat osallistujille myös jälkikäteen katsottaviksi.\n \nLiity jäseneksi  Ilmoittautuminen ei jäsenhintaan    \nSijoittamisen perusteet kurssi
LOCATION:Webinaari\, Suomi
URL:http://tapahtumat.osakeliitto.fi/osakesijoittamisen_peruskurssi_kevat2021_jasenille
END:VEVENT
END:VCALENDAR
