BEGIN:VCALENDAR
METHOD:PUBLISH
VERSION:2.0
PRODID:-//Eventilla iCal Syndication//NONSGML Liana//EN
BEGIN:VEVENT
UID:qJ1Pg@eventilla.com
DTSTAMP:20240924T140000Z
DTSTART:20240924T140000Z
DTEND:20240924T205900Z
SUMMARY:Satakunnan Osakesäästäjät: Wetterin yritysesittely
DESCRIPTION:Tervetuloa monimerkkiautotalo Wetterin yritysesittelyyn Porin toimipisteeseen (Itäkeskuksenkaari 1) 24.9.2024 klo 17:00. Paikan päällä sijoittajasuhteista ja yritysjärjestelyistä vastaava johtaja Samuli Koskela. Pääsemme tutustumaan myös autokaupan toimintaan ja henkilökuntaan.\nLue lisää Wetteristä https://sijoittajat.wetteri.fi/
LOCATION:Wetteri Pori\, Itäkeskuksenkaari 1\, 28130\, Pori
URL:http://tapahtumat.osakeliitto.fi/event/qJ1Pg
END:VEVENT
END:VCALENDAR
