BEGIN:VCALENDAR
METHOD:PUBLISH
VERSION:2.0
PRODID:-//Eventilla iCal Syndication//NONSGML Liana//EN
BEGIN:VEVENT
UID:xELGM@eventilla.com
DTSTAMP:20211007T140000Z
DTSTART:20211007T140000Z
DTEND:20211007T153000Z
SUMMARY:Pirkanmaa: Sijoittaminen sijoitusyhtiönkautta vai suoraan itse?
DESCRIPTION:Kannattaako sijoittaa suoraan itse vai olisiko järkevää perustaa sijoitusyhtiö hallinnoimaan sijoituksia. Mitä kaikkea pitää ottaa huomioon\, jos aikoo perustaa sijoitusyhtiön\, miten verotus muuttuu ja olisiko se minulle sopiva tapa? Näiden kysymyksiä miettii moni osakesäästäjä\, oletko sinä miettinyt näitä kysymyksiä?\nNyt on mahdollista tulla kuuntelemaan aiheeseen liittyvä luento sekä esittämään omia kysymyksiä. Luennoitsijana on Veronmaksajien keskusliiton johtava verojuristi Päivi Kaari.\nKohderyhmäTapahtuma sopii kaikille aktiivisille sijoittajille. Sinulla voi olla jo valmiiksi sijoitusyhtiö tai se voi olla vastaa haaveena ja tavoitteena myöhemmin.\nTapahtuma on vain Pirkanmaan Osakesäästäjien ja Satakunnan Osakesäästäjien jäsenille. Valitettavasti emme voi tarjota tällä kertaa muiden paikallisyhdistyksien jäsenille paikkoja.\nMissä ja milloinTapahtuma toteutetaan Microsoft TEAMS:n avulla.Tilaisuus on 7.10.2021 kello 17:00-18:30Ohje Microsoft tukisivu\n \nLiity tapahtumaan
LOCATION:Pirkanmaa
URL:http://tapahtumat.osakeliitto.fi/pos_sijoitusyhtiokoulutus2021
END:VEVENT
END:VCALENDAR
